Package: GSE103322 Version: 1.12.0 Command: /home/biocbuild/bbs-3.20-bioc/R/bin/R CMD build --keep-empty-dirs --no-resave-data GSE103322 StartedAt: 2025-02-04 11:18:36 -0500 (Tue, 04 Feb 2025) EndedAt: 2025-02-04 11:19:10 -0500 (Tue, 04 Feb 2025) EllapsedTime: 34.2 seconds RetCode: 0 Status: OK PackageFile: GSE103322_1.12.0.tar.gz PackageFileSize: 218.7 KiB