Package: GSE13015 Version: 1.14.0 Command: /home/biocbuild/bbs-3.20-bioc/R/bin/R CMD build --keep-empty-dirs --no-resave-data GSE13015 StartedAt: 2025-02-04 11:18:46 -0500 (Tue, 04 Feb 2025) EndedAt: 2025-02-04 11:19:14 -0500 (Tue, 04 Feb 2025) EllapsedTime: 28.1 seconds RetCode: 0 Status: OK PackageFile: GSE13015_1.14.0.tar.gz PackageFileSize: 218.4 KiB