Package: GSE13015 Version: 1.14.0 Command: /home/biocbuild/bbs-3.20-bioc/R/bin/R CMD check --install=check:GSE13015.install-out.txt --library=/home/biocbuild/bbs-3.20-bioc/R/site-library --timings GSE13015_1.14.0.tar.gz StartedAt: 2025-02-04 12:06:33 -0500 (Tue, 04 Feb 2025) EndedAt: 2025-02-04 12:07:46 -0500 (Tue, 04 Feb 2025) EllapsedTime: 72.2 seconds RetCode: 0 Status: OK CheckDir: GSE13015.Rcheck Warnings: 0