Package: GSE13015 Version: 1.14.0 Command: /home/biocbuild/bbs-3.20-bioc/R/bin/R CMD INSTALL GSE13015 StartedAt: 2025-02-04 10:59:24 -0500 (Tue, 04 Feb 2025) EndedAt: 2025-02-04 10:59:41 -0500 (Tue, 04 Feb 2025) EllapsedTime: 17.0 seconds RetCode: 0 Status: OK