Package: GSE159526 Version: 1.12.0 Command: /home/biocbuild/bbs-3.20-bioc/R/bin/R CMD check --install=check:GSE159526.install-out.txt --library=/home/biocbuild/bbs-3.20-bioc/R/site-library --timings GSE159526_1.12.0.tar.gz StartedAt: 2025-02-04 12:06:34 -0500 (Tue, 04 Feb 2025) EndedAt: 2025-02-04 12:06:53 -0500 (Tue, 04 Feb 2025) EllapsedTime: 19.6 seconds RetCode: 0 Status: OK CheckDir: GSE159526.Rcheck Warnings: 0