Package: GSVAdata Version: 1.42.0 Command: /home/biocbuild/bbs-3.20-bioc/R/bin/R CMD INSTALL GSVAdata StartedAt: 2025-02-06 10:58:54 -0500 (Thu, 06 Feb 2025) EndedAt: 2025-02-06 10:59:12 -0500 (Thu, 06 Feb 2025) EllapsedTime: 18.9 seconds RetCode: 0 Status: OK