Package: HCAData Version: 1.22.0 Command: /home/biocbuild/bbs-3.20-bioc/R/bin/R CMD INSTALL HCAData StartedAt: 2025-02-04 11:03:40 -0500 (Tue, 04 Feb 2025) EndedAt: 2025-02-04 11:04:13 -0500 (Tue, 04 Feb 2025) EllapsedTime: 32.9 seconds RetCode: 0 Status: OK