Package: HD2013SGI Version: 1.46.0 Command: /home/biocbuild/bbs-3.20-bioc/R/bin/R CMD check --install=check:HD2013SGI.install-out.txt --library=/home/biocbuild/bbs-3.20-bioc/R/site-library --timings HD2013SGI_1.46.0.tar.gz StartedAt: 2025-02-04 12:08:28 -0500 (Tue, 04 Feb 2025) EndedAt: 2025-02-04 12:17:35 -0500 (Tue, 04 Feb 2025) EllapsedTime: 546.8 seconds RetCode: 0 Status: OK CheckDir: HD2013SGI.Rcheck Warnings: 0