Package: HD2013SGI Version: 1.46.0 Command: /home/biocbuild/bbs-3.20-bioc/R/bin/R CMD INSTALL HD2013SGI StartedAt: 2025-02-04 10:57:41 -0500 (Tue, 04 Feb 2025) EndedAt: 2025-02-04 10:57:59 -0500 (Tue, 04 Feb 2025) EllapsedTime: 17.0 seconds RetCode: 0 Status: OK