Package: HIVcDNAvantWout03 Version: 1.46.0 Command: /home/biocbuild/bbs-3.20-bioc/R/bin/R CMD check --install=check:HIVcDNAvantWout03.install-out.txt --library=/home/biocbuild/bbs-3.20-bioc/R/site-library --timings HIVcDNAvantWout03_1.46.0.tar.gz StartedAt: 2025-02-04 12:10:26 -0500 (Tue, 04 Feb 2025) EndedAt: 2025-02-04 12:10:38 -0500 (Tue, 04 Feb 2025) EllapsedTime: 12.0 seconds RetCode: 0 Status: WARNINGS CheckDir: HIVcDNAvantWout03.Rcheck Warnings: 1