Package: HMP16SData Version: 1.26.0 Command: /home/biocbuild/bbs-3.20-bioc/R/bin/R CMD build --keep-empty-dirs --no-resave-data HMP16SData StartedAt: 2025-02-06 11:22:40 -0500 (Thu, 06 Feb 2025) EndedAt: 2025-02-06 11:24:59 -0500 (Thu, 06 Feb 2025) EllapsedTime: 139.6 seconds RetCode: 0 Status: OK PackageFile: HMP16SData_1.26.0.tar.gz PackageFileSize: 16.34 MiB