Package: HMP16SData Version: 1.26.0 Command: /home/biocbuild/bbs-3.20-bioc/R/bin/R CMD check --install=check:HMP16SData.install-out.txt --library=/home/biocbuild/bbs-3.20-bioc/R/site-library --timings HMP16SData_1.26.0.tar.gz StartedAt: 2025-02-06 12:10:04 -0500 (Thu, 06 Feb 2025) EndedAt: 2025-02-06 12:16:47 -0500 (Thu, 06 Feb 2025) EllapsedTime: 403.5 seconds RetCode: 0 Status: OK CheckDir: HMP16SData.Rcheck Warnings: 0