Package: HelloRangesData Version: 1.32.0 Command: /home/biocbuild/bbs-3.20-bioc/R/bin/R CMD check --install=check:HelloRangesData.install-out.txt --library=/home/biocbuild/bbs-3.20-bioc/R/site-library --timings HelloRangesData_1.32.0.tar.gz StartedAt: 2025-02-04 12:09:13 -0500 (Tue, 04 Feb 2025) EndedAt: 2025-02-04 12:09:32 -0500 (Tue, 04 Feb 2025) EllapsedTime: 19.0 seconds RetCode: 0 Status: OK CheckDir: HelloRangesData.Rcheck Warnings: 0