Package: HiCDataLymphoblast Version: 1.42.0 Command: /home/biocbuild/bbs-3.20-bioc/R/bin/R CMD check --install=check:HiCDataLymphoblast.install-out.txt --library=/home/biocbuild/bbs-3.20-bioc/R/site-library --timings HiCDataLymphoblast_1.42.0.tar.gz StartedAt: 2025-02-04 12:10:04 -0500 (Tue, 04 Feb 2025) EndedAt: 2025-02-04 12:10:25 -0500 (Tue, 04 Feb 2025) EllapsedTime: 21.6 seconds RetCode: 0 Status: OK CheckDir: HiCDataLymphoblast.Rcheck Warnings: 0