Package: HighlyReplicatedRNASeq Version: 1.18.0 Command: /home/biocbuild/bbs-3.20-bioc/R/bin/R CMD build --keep-empty-dirs --no-resave-data HighlyReplicatedRNASeq StartedAt: 2025-02-20 11:23:05 -0500 (Thu, 20 Feb 2025) EndedAt: 2025-02-20 11:24:03 -0500 (Thu, 20 Feb 2025) EllapsedTime: 57.6 seconds RetCode: 0 Status: OK PackageFile: HighlyReplicatedRNASeq_1.18.0.tar.gz PackageFileSize: 468.5 <A href="http://en.wikipedia.org/wiki/KiB" target="_blank">KiB</A>