Package: HumanAffyData Version: 1.32.0 Command: /home/biocbuild/bbs-3.20-bioc/R/bin/R CMD build --keep-empty-dirs --no-resave-data HumanAffyData StartedAt: 2025-02-04 11:22:59 -0500 (Tue, 04 Feb 2025) EndedAt: 2025-02-04 11:23:25 -0500 (Tue, 04 Feb 2025) EllapsedTime: 25.5 seconds RetCode: 0 Status: OK PackageFile: HumanAffyData_1.32.0.tar.gz PackageFileSize: 157.3 KiB