Package: Illumina450ProbeVariants.db Version: 1.42.0 Command: /home/biocbuild/bbs-3.20-bioc/R/bin/R CMD build --keep-empty-dirs --no-resave-data Illumina450ProbeVariants.db StartedAt: 2025-02-04 11:23:14 -0500 (Tue, 04 Feb 2025) EndedAt: 2025-02-04 11:23:17 -0500 (Tue, 04 Feb 2025) EllapsedTime: 3.0 seconds RetCode: 0 Status: OK PackageFile: Illumina450ProbeVariants.db_1.42.0.tar.gz PackageFileSize: 6.414 MiB