Package: Illumina450ProbeVariants.db Version: 1.42.0 Command: /home/biocbuild/bbs-3.20-bioc/R/bin/R CMD INSTALL Illumina450ProbeVariants.db StartedAt: 2025-02-04 10:55:14 -0500 (Tue, 04 Feb 2025) EndedAt: 2025-02-04 10:55:17 -0500 (Tue, 04 Feb 2025) EllapsedTime: 3.9 seconds RetCode: 0 Status: OK