Package: JASPAR2016 Version: 1.34.0 Command: /home/biocbuild/bbs-3.20-bioc/R/bin/R CMD build --keep-empty-dirs --no-resave-data JASPAR2016 StartedAt: 2025-02-04 11:23:29 -0500 (Tue, 04 Feb 2025) EndedAt: 2025-02-04 11:23:35 -0500 (Tue, 04 Feb 2025) EllapsedTime: 5.4 seconds RetCode: 0 Status: OK PackageFile: JASPAR2016_1.34.0.tar.gz PackageFileSize: 8.715 MiB