Package: JASPAR2016 Version: 1.34.0 Command: /home/biocbuild/bbs-3.20-bioc/R/bin/R CMD check --install=check:JASPAR2016.install-out.txt --library=/home/biocbuild/bbs-3.20-bioc/R/site-library --timings JASPAR2016_1.34.0.tar.gz StartedAt: 2025-02-04 12:13:56 -0500 (Tue, 04 Feb 2025) EndedAt: 2025-02-04 12:14:10 -0500 (Tue, 04 Feb 2025) EllapsedTime: 13.6 seconds RetCode: 0 Status: OK CheckDir: JASPAR2016.Rcheck Warnings: 0