Package: JASPAR2016 Version: 1.34.0 Command: /home/biocbuild/bbs-3.20-bioc/R/bin/R CMD INSTALL JASPAR2016 StartedAt: 2025-02-04 10:55:58 -0500 (Tue, 04 Feb 2025) EndedAt: 2025-02-04 10:56:03 -0500 (Tue, 04 Feb 2025) EllapsedTime: 5.0 seconds RetCode: 0 Status: OK