Package: JohnsonKinaseData Version: 1.2.0 Command: /home/biocbuild/bbs-3.20-bioc/R/bin/R CMD build --keep-empty-dirs --no-resave-data JohnsonKinaseData StartedAt: 2025-02-04 11:23:32 -0500 (Tue, 04 Feb 2025) EndedAt: 2025-02-04 11:24:21 -0500 (Tue, 04 Feb 2025) EllapsedTime: 48.9 seconds RetCode: 0 Status: OK PackageFile: JohnsonKinaseData_1.2.0.tar.gz PackageFileSize: 315.1 KiB