Package: KOdata Version: 1.32.0 Command: /home/biocbuild/bbs-3.20-bioc/R/bin/R CMD check --install=check:KOdata.install-out.txt --library=/home/biocbuild/bbs-3.20-bioc/R/site-library --timings KOdata_1.32.0.tar.gz StartedAt: 2025-02-06 12:14:14 -0500 (Thu, 06 Feb 2025) EndedAt: 2025-02-06 12:14:31 -0500 (Thu, 06 Feb 2025) EllapsedTime: 17.0 seconds RetCode: 0 Status: WARNINGS CheckDir: KOdata.Rcheck Warnings: 1