Package: LungCancerLines Version: 0.44.0 Command: /home/biocbuild/bbs-3.20-bioc/R/bin/R CMD build --keep-empty-dirs --no-resave-data LungCancerLines StartedAt: 2025-02-04 11:25:03 -0500 (Tue, 04 Feb 2025) EndedAt: 2025-02-04 11:25:04 -0500 (Tue, 04 Feb 2025) EllapsedTime: 1.3 seconds RetCode: 0 Status: OK PackageFile: LungCancerLines_0.44.0.tar.gz PackageFileSize: 1.608 MiB