Package: LungCancerLines Version: 0.44.0 Command: /home/biocbuild/bbs-3.20-bioc/R/bin/R CMD check --install=check:LungCancerLines.install-out.txt --library=/home/biocbuild/bbs-3.20-bioc/R/site-library --timings LungCancerLines_0.44.0.tar.gz StartedAt: 2025-02-04 12:16:15 -0500 (Tue, 04 Feb 2025) EndedAt: 2025-02-04 12:17:23 -0500 (Tue, 04 Feb 2025) EllapsedTime: 67.9 seconds RetCode: 0 Status: OK CheckDir: LungCancerLines.Rcheck Warnings: 0