Package: LungCancerLines Version: 0.44.0 Command: /home/biocbuild/bbs-3.20-bioc/R/bin/R CMD INSTALL LungCancerLines StartedAt: 2025-02-04 11:01:34 -0500 (Tue, 04 Feb 2025) EndedAt: 2025-02-04 11:01:45 -0500 (Tue, 04 Feb 2025) EllapsedTime: 11.2 seconds RetCode: 0 Status: OK