Package: MSMB Version: 1.24.0 Command: /home/biocbuild/bbs-3.20-bioc/R/bin/R CMD check --install=check:MSMB.install-out.txt --library=/home/biocbuild/bbs-3.20-bioc/R/site-library --timings MSMB_1.24.0.tar.gz StartedAt: 2025-02-04 12:23:05 -0500 (Tue, 04 Feb 2025) EndedAt: 2025-02-04 12:23:23 -0500 (Tue, 04 Feb 2025) EllapsedTime: 17.3 seconds RetCode: 0 Status: OK CheckDir: MSMB.Rcheck Warnings: 0