Package: MethylAidData Version: 1.38.0 Command: /home/biocbuild/bbs-3.20-bioc/R/bin/R CMD build --keep-empty-dirs --no-resave-data MethylAidData StartedAt: 2025-02-04 11:26:47 -0500 (Tue, 04 Feb 2025) EndedAt: 2025-02-04 11:27:22 -0500 (Tue, 04 Feb 2025) EllapsedTime: 34.5 seconds RetCode: 0 Status: OK PackageFile: MethylAidData_1.38.0.tar.gz PackageFileSize: 20.97 MiB