Package: MethylAidData Version: 1.38.0 Command: /home/biocbuild/bbs-3.20-bioc/R/bin/R CMD check --install=check:MethylAidData.install-out.txt --library=/home/biocbuild/bbs-3.20-bioc/R/site-library --timings MethylAidData_1.38.0.tar.gz StartedAt: 2025-02-04 12:18:13 -0500 (Tue, 04 Feb 2025) EndedAt: 2025-02-04 12:21:29 -0500 (Tue, 04 Feb 2025) EllapsedTime: 195.7 seconds RetCode: 0 Status: OK CheckDir: MethylAidData.Rcheck Warnings: 0