Package: MethylSeqData
Version: 1.16.0
Command: /home/biocbuild/bbs-3.20-bioc/R/bin/R CMD INSTALL MethylSeqData
StartedAt: 2025-02-20 11:00:58 -0500 (Thu, 20 Feb 2025)
EndedAt: 2025-02-20 11:01:30 -0500 (Thu, 20 Feb 2025)
EllapsedTime: 32.4 seconds
RetCode: 0
Status: OK