Package: NanoporeRNASeq
Version: 1.16.0
Command: /home/biocbuild/bbs-3.20-bioc/R/bin/R CMD check --install=check:NanoporeRNASeq.install-out.txt --library=/home/biocbuild/bbs-3.20-bioc/R/site-library --timings NanoporeRNASeq_1.16.0.tar.gz
StartedAt: 2025-02-20 12:25:27 -0500 (Thu, 20 Feb 2025)
EndedAt: 2025-02-20 12:28:00 -0500 (Thu, 20 Feb 2025)
EllapsedTime: 153.6 seconds
RetCode: 0
Status: OK
CheckDir: NanoporeRNASeq.Rcheck
Warnings: 0