Package: OMICsPCAdata Version: 1.24.0 Command: /home/biocbuild/bbs-3.20-bioc/R/bin/R CMD INSTALL OMICsPCAdata StartedAt: 2025-02-04 11:00:08 -0500 (Tue, 04 Feb 2025) EndedAt: 2025-02-04 11:00:50 -0500 (Tue, 04 Feb 2025) EllapsedTime: 42.2 seconds RetCode: 0 Status: OK