Package: ObMiTi Version: 1.14.0 Command: /home/biocbuild/bbs-3.20-bioc/R/bin/R CMD check --install=check:ObMiTi.install-out.txt --library=/home/biocbuild/bbs-3.20-bioc/R/site-library --timings ObMiTi_1.14.0.tar.gz StartedAt: 2025-02-04 12:25:42 -0500 (Tue, 04 Feb 2025) EndedAt: 2025-02-04 12:28:35 -0500 (Tue, 04 Feb 2025) EllapsedTime: 172.6 seconds RetCode: 0 Status: OK CheckDir: ObMiTi.Rcheck Warnings: 0