Package: ObMiTi Version: 1.14.0 Command: /home/biocbuild/bbs-3.20-bioc/R/bin/R CMD INSTALL ObMiTi StartedAt: 2025-02-04 10:59:00 -0500 (Tue, 04 Feb 2025) EndedAt: 2025-02-04 10:59:24 -0500 (Tue, 04 Feb 2025) EllapsedTime: 24.1 seconds RetCode: 0 Status: OK