Package: OnassisJavaLibs Version: 1.28.0 Command: /home/biocbuild/bbs-3.20-bioc/R/bin/R CMD build --keep-empty-dirs --no-resave-data OnassisJavaLibs StartedAt: 2025-02-04 11:30:15 -0500 (Tue, 04 Feb 2025) EndedAt: 2025-02-04 11:30:27 -0500 (Tue, 04 Feb 2025) EllapsedTime: 12.3 seconds RetCode: 0 Status: OK PackageFile: OnassisJavaLibs_1.28.0.tar.gz PackageFileSize: 85.26 MiB