Package: PREDAsampledata Version: 0.46.0 Command: /home/biocbuild/bbs-3.20-bioc/R/bin/R CMD check --install=check:PREDAsampledata.install-out.txt --library=/home/biocbuild/bbs-3.20-bioc/R/site-library --timings PREDAsampledata_0.46.0.tar.gz StartedAt: 2025-02-04 12:28:38 -0500 (Tue, 04 Feb 2025) EndedAt: 2025-02-04 12:30:24 -0500 (Tue, 04 Feb 2025) EllapsedTime: 105.7 seconds RetCode: 0 Status: OK CheckDir: PREDAsampledata.Rcheck Warnings: 0