Package: PWMEnrich.Dmelanogaster.background Version: 4.40.0 Command: /home/biocbuild/bbs-3.20-bioc/R/bin/R CMD build --keep-empty-dirs --no-resave-data PWMEnrich.Dmelanogaster.background StartedAt: 2025-02-04 11:32:14 -0500 (Tue, 04 Feb 2025) EndedAt: 2025-02-04 11:32:15 -0500 (Tue, 04 Feb 2025) EllapsedTime: 1.0 seconds RetCode: 0 Status: OK PackageFile: PWMEnrich.Dmelanogaster.background_4.40.0.tar.gz PackageFileSize: 6.539 MiB