Package: PWMEnrich.Dmelanogaster.background Version: 4.40.0 Command: /home/biocbuild/bbs-3.20-bioc/R/bin/R CMD check --install=check:PWMEnrich.Dmelanogaster.background.install-out.txt --library=/home/biocbuild/bbs-3.20-bioc/R/site-library --timings PWMEnrich.Dmelanogaster.background_4.40.0.tar.gz StartedAt: 2025-02-04 12:29:21 -0500 (Tue, 04 Feb 2025) EndedAt: 2025-02-04 12:29:57 -0500 (Tue, 04 Feb 2025) EllapsedTime: 36.3 seconds RetCode: 0 Status: OK CheckDir: PWMEnrich.Dmelanogaster.background.Rcheck Warnings: 0