Package: PWMEnrich.Dmelanogaster.background Version: 4.40.0 Command: /home/biocbuild/bbs-3.20-bioc/R/bin/R CMD INSTALL PWMEnrich.Dmelanogaster.background StartedAt: 2025-02-04 10:56:35 -0500 (Tue, 04 Feb 2025) EndedAt: 2025-02-04 10:56:40 -0500 (Tue, 04 Feb 2025) EllapsedTime: 5.8 seconds RetCode: 0 Status: OK