Package: PWMEnrich.Mmusculus.background Version: 4.40.0 Command: /home/biocbuild/bbs-3.20-bioc/R/bin/R CMD check --install=check:PWMEnrich.Mmusculus.background.install-out.txt --library=/home/biocbuild/bbs-3.20-bioc/R/site-library --timings PWMEnrich.Mmusculus.background_4.40.0.tar.gz StartedAt: 2025-02-04 12:29:28 -0500 (Tue, 04 Feb 2025) EndedAt: 2025-02-04 12:30:04 -0500 (Tue, 04 Feb 2025) EllapsedTime: 35.2 seconds RetCode: 0 Status: OK CheckDir: PWMEnrich.Mmusculus.background.Rcheck Warnings: 0