Package: RNAinteractMAPK Version: 1.44.0 Command: /home/biocbuild/bbs-3.20-bioc/R/bin/R CMD build --keep-empty-dirs --no-resave-data RNAinteractMAPK StartedAt: 2025-02-04 11:33:29 -0500 (Tue, 04 Feb 2025) EndedAt: 2025-02-04 11:33:30 -0500 (Tue, 04 Feb 2025) EllapsedTime: 1.0 seconds RetCode: 1 Status: ERROR PackageFile: None PackageFileSize: NA