Package: RNAinteractMAPK Version: 1.43.0 Command: /home/biocbuild/bbs-3.20-bioc/R/bin/R CMD check --install=check:RNAinteractMAPK.install-out.txt --library=/home/biocbuild/bbs-3.20-bioc/R/site-library --timings RNAinteractMAPK_1.43.0.tar.gz StartedAt: 2024-07-02 11:55:57 -0400 (Tue, 02 Jul 2024) EndedAt: 2024-07-02 11:59:57 -0400 (Tue, 02 Jul 2024) EllapsedTime: 239.5 seconds RetCode: 0 Status: OK CheckDir: RNAinteractMAPK.Rcheck Warnings: 0