Package: RNAmodR.Data Version: 1.20.0 Command: /home/biocbuild/bbs-3.20-bioc/R/bin/R CMD build --keep-empty-dirs --no-resave-data RNAmodR.Data StartedAt: 2025-02-04 11:33:30 -0500 (Tue, 04 Feb 2025) EndedAt: 2025-02-04 11:34:30 -0500 (Tue, 04 Feb 2025) EllapsedTime: 59.7 seconds RetCode: 0 Status: OK PackageFile: RNAmodR.Data_1.20.0.tar.gz PackageFileSize: 304.9 KiB