Package: RNAmodR.Data Version: 1.20.0 Command: /home/biocbuild/bbs-3.20-bioc/R/bin/R CMD INSTALL RNAmodR.Data StartedAt: 2025-02-04 11:04:38 -0500 (Tue, 04 Feb 2025) EndedAt: 2025-02-04 11:05:18 -0500 (Tue, 04 Feb 2025) EllapsedTime: 40.2 seconds RetCode: 0 Status: OK