Package: RNAseqData.HNRNPC.bam.chr14 Version: 0.44.0 Command: /home/biocbuild/bbs-3.20-bioc/R/bin/R CMD build --keep-empty-dirs --no-resave-data RNAseqData.HNRNPC.bam.chr14 StartedAt: 2025-02-04 11:33:39 -0500 (Tue, 04 Feb 2025) EndedAt: 2025-02-04 11:34:23 -0500 (Tue, 04 Feb 2025) EllapsedTime: 44.1 seconds RetCode: 0 Status: OK PackageFile: RNAseqData.HNRNPC.bam.chr14_0.44.0.tar.gz PackageFileSize: 332.5 MiB