Package: RNAseqData.HNRNPC.bam.chr14 Version: 0.44.0 Command: /home/biocbuild/bbs-3.20-bioc/R/bin/R CMD INSTALL RNAseqData.HNRNPC.bam.chr14 StartedAt: 2025-02-04 10:55:44 -0500 (Tue, 04 Feb 2025) EndedAt: 2025-02-04 10:55:47 -0500 (Tue, 04 Feb 2025) EllapsedTime: 2.5 seconds RetCode: 0 Status: OK