Package: RTCGA.mRNA Version: 1.34.0 Command: /home/biocbuild/bbs-3.20-bioc/R/bin/R CMD check --install=check:RTCGA.mRNA.install-out.txt --library=/home/biocbuild/bbs-3.20-bioc/R/site-library --timings RTCGA.mRNA_1.34.0.tar.gz StartedAt: 2025-02-04 12:35:00 -0500 (Tue, 04 Feb 2025) EndedAt: 2025-02-04 12:36:23 -0500 (Tue, 04 Feb 2025) EllapsedTime: 83.3 seconds RetCode: 0 Status: WARNINGS CheckDir: RTCGA.mRNA.Rcheck Warnings: 1