Package: RTCGA.mutations Version: 20151101.36.0 Command: /home/biocbuild/bbs-3.20-bioc/R/bin/R CMD check --install=check:RTCGA.mutations.install-out.txt --library=/home/biocbuild/bbs-3.20-bioc/R/site-library --timings RTCGA.mutations_20151101.36.0.tar.gz StartedAt: 2025-02-04 12:35:07 -0500 (Tue, 04 Feb 2025) EndedAt: 2025-02-04 12:39:03 -0500 (Tue, 04 Feb 2025) EllapsedTime: 235.5 seconds RetCode: 0 Status: WARNINGS CheckDir: RTCGA.mutations.Rcheck Warnings: 1