Package: RTCGA.mutations Version: 20151101.36.0 Command: /home/biocbuild/bbs-3.20-bioc/R/bin/R CMD INSTALL RTCGA.mutations StartedAt: 2025-02-04 10:58:00 -0500 (Tue, 04 Feb 2025) EndedAt: 2025-02-04 11:01:18 -0500 (Tue, 04 Feb 2025) EllapsedTime: 198.3 seconds RetCode: 0 Status: OK