Package: RTCGA.rnaseq Version: 20151101.36.0 Command: /home/biocbuild/bbs-3.20-bioc/R/bin/R CMD build --keep-empty-dirs --no-resave-data RTCGA.rnaseq StartedAt: 2025-02-11 11:36:10 -0500 (Tue, 11 Feb 2025) EndedAt: 2025-02-11 11:39:40 -0500 (Tue, 11 Feb 2025) EllapsedTime: 210.2 seconds RetCode: 0 Status: OK PackageFile: RTCGA.rnaseq_20151101.36.0.tar.gz PackageFileSize: 612.6 MiB